Workbook

Sheet 사업개요
A1: 주택건설공사 감리자 모집에 따른 사업개요
A3: 가. 사업현황 | D3: 작성일 : 2026년 10월
A4: 구 분 | B4: 내 용 | E4: 비 고
A5: 사 업 명 | B5: 아산 리버뷰 지역주택조합 아파트 신축공사
A6: 사업주체 | B6: 아산리버뷰지역주택조합
B7: 충남 아산시 염치읍 석정길 26
B8: TEL) 041-910-0655 | C8: FAX) 02-
A9: 설 계 자 | B9: ㈜종합건축사사무소 디에스그룹
B10: 충남 천안시 서북구 불당34길 3-20, 쏠프라자 5층
B11: TEL) 041-592-2022 | C11: FAX) 02-
A12: 시 공 사 | B12: ㈜한양건설
B13: 경기도 하남시 서하남로 60, 2층(감북동)
B14: TEL) 02-2240-4860 | C14: FAX) 02-412-3005
A15: 사업개요 | B15: 대지위치 : 충청남도 아산시 염치읍 석정리 819외 일원
B16: 공사규모 : 지하2층, 지상27층 아파트10개동(760세대) 및 부대복리시설
B17: 전체공사기간 : 2026.08. ~ 2029.10. (38개월)
B18: 대지면적 : 32,097.5.000 ㎡
B19: 건축면적 : 5,857.5233㎡
B20: 연 면 적 : 123,427.2334㎡
B21: 사업승인 : 2023.06.28. / 변경승인 : 2026.09.17.
A23: 나.총사업비 | D23: (단위 : 천원)
A24: 항 목 | C24: 금 액 | E24: 비 고
A25: 총 사 업 비 | C25: ='갑지(사업비)'!D24 -> 328935296 | D25: 천원
A26: 대 지 비 | C26: ='갑지(사업비)'!D22 -> 31905000 | D26: 천원
A27: 총 공 사 비 | C27: ='갑지(사업비)'!D14 -> 203669000 | D27: 천원
A28: 감 리 구 분
B29: 가.소방감리 대상공사비 | C29: ='갑지(사업비)'!F14 -> 6626295 | D29: 천원
B30: 나.타법감리 대상공사비 | C30: ='갑지(사업비)'!G14+'갑지(사업비)'!E14 -> 197042705 | D30: 천원

Sheet 갑지(사업비)
A1: 【별지 제1호 서식】
A2: 총사업비 산출 총괄표
A3: 사업명 : 아산 리버뷰 지역주택조합 아파트 신축 | G3: (단위 : 천원)
A4: 구 분 | D4: 전 체 | E4: 건축감리대상 | F4: 감리대상(소방) | G4: 타법감리
A5: 총 공사비 | B5: 순공사비 | C5: 토목공사 | D5: =+'을지(총공사비)'!D18 -> 13396178 | E5: =+D5 -> 13396178 | G5: =+D5-E5 -> 0
C6: 건축공사 | D6: =+'을지(총공사비)'!D42 -> 136661659 | E6: =+D6 -> 136661659 | G6: =+D6-E6 -> 0
C7: 기계설비공사 | D7: =+'을지(총공사비)'!D52 -> 17762588 | E7: =+D7 -> 17762588 | G7: =+D7-E7 -> 0
C8: 전기공사 | D8: =+'을지(총공사비)'!D53 -> 6180024 | E8: 0 | G8: =+D8-E8 -> 6180024
C9: 정보통신공사 | D9: =+'을지(총공사비)'!D54 -> 5462798 | E9: 0 | G9: =+D9-E9 -> 5462798
C10: 소방설비공사 | D10: =+'을지(총공사비)'!D57 -> 6039327 | E10: 0 | F10: =+D10-E10 -> 6039327
C11: 소 계 | D11: =SUM(D5:D10) -> 185502574 | E11: =SUM(E5:E10) -> 167820425 | F11: =SUM(F5:F10) -> 6039327 | G11: =SUM(G5:G10) -> 11642822
B12: 일반관리비 | D12: ='을지(총공사비)'!D59 -> 9979599 | E12: ='을지(총공사비)'!E59 -> 9035528.9 | F12: ='을지(총공사비)'!F59 -> 322447 | G12: =+D12-E12-F12 -> 621623.07
B13: 이 윤 | D13: ='을지(총공사비)'!D60 -> 8186827 | E13: ='을지(총공사비)'!E60 -> 7412353.2 | F13: ='을지(총공사비)'!F60 -> 264521 | G13: =+D13-E13-F13 -> 509952.83
B14: 계 | D14: =SUM(D11:D13) -> 203669000 | E14: =SUM(E11:E13) -> 1.8426831e+08 | F14: =SUM(F11:F13) -> 6626295 | G14: =SUM(G11:G13) -> 12774398
A15: 간접비 | B15: 설계비 | D15: 4000000 | F15: =+D15 -> 4000000
B16: 감리비 | D16: 4522000 | F16: =+D16 -> 4522000
B17: 일반분양시설 경비 | D17: 31710000 | F17: =+D17 -> 31710000
B18: 분담금 및 부담금 | D18: 13863000 | F18: =+D18 -> 13863000
B19: 보상비 | F19: =+D19 -> 0
B20: 기타 사업비성 경비 | D20: 39104000 | F20: =+D20 -> 39104000
B21: 계 | D21: =SUM(D15:D20) -> 93199000 | F21: =SUM(F15:F20) -> 93199000
A22: 대 지 비 | D22: 31905000 | F22: =+D22 -> 31905000
A23: 부가가치세액 | D23: 162296 | F23: =+D23 -> 162296
A24: 총사업비 계 | D24: =D14+D21+D22+D23 -> 328935296 | E24: =E11+E12+E13+E21+E22+E23 -> 1.8426831e+08 | F24: =F14+F21+F22+F23 -> 131892591 | G24: =G11+G12+G13+G21+G22+G23 -> 12774398
A25: 주 : 1. 순공사비란 재료비, 노무비, 경비를 합한 금액임.
A26: 2. 일반관리비와 이윤에 대한 정의 및 산정방법은 ‘원가계산에 의한 예정가격작성준칙(회계예규)’에 따름
A27: 3. 부가가치세액의 정의와 산정방법은 ‘부가가치세법’에 따름
A28: 4. 간접비란 사업비중 총공사비를 제외한 설계비, 감리비, 분양시설경비등 사업비성 경비를 말하며,
A29: 세부 비목은 다음과 같음.
A30: ● 일반분양시설경비 : 시공비, 운영비, 광고홍보비
A31: ● 분담금 및 부담금 : 인입분담금(가스, 전기, 수도, 지역난방), 진입도로, 학교용지확보 부담금
A32: ● 보상비 : 이주대책비, 이주보상비
A33: ● 기타사업비성 경비 : 제세공과금, 측량·교통·환경 영향평가 수수료, 취득세, 등록세, 건물보존등기비 및
A34: 입주관리비, 감정평가수수료, 분양·임대 및 하자보증수수료 등 기타 사업비성 경비
A35: ● 대지비 : 대지구입비, 대지구입 관련 금융비용 및 제세공과금
A36: 5. 감리대상 공사비 산정시 발코니확장공사 금액 포함 금액임.

Sheet 을지(총공사비)
A1: 【별지 제2호 서식】
D2: 공종별 총공사비 구성 현황표
A3: 사업명 : 아산 리버뷰 지역주택조합 아파트 신축공사 | G3: (단위:천원)
A4: 구 분 | B4: 분 야 | C4: 공 종 | D4: 전 체 | E4: 건축감리 | F4: 감리대상(소방) | G4: 타법감리
A5: 순공사비 | B5: 토목,조경 (13개공사) | C5: 토 공 사 | D5: 2189403 | E5: =D5 -> 2189403 | F5: 0 | G5: 0
C6: 흙막이 공사 | D6: 1911089 | E6: =D6 -> 1911089 | F6: 0 | G6: 0
C7: 비탈면 보호공사 | D7: 0 | E7: =D7 -> 0 | F7: 0 | G7: 0
C8: 옹벽공사 | D8: 0 | E8: =D8 -> 0 | F8: 0 | G8: 0
C9: 석축공사 | D9: 0 | E9: =D9 -> 0 | F9: 0 | G9: 0
C10: 우,오수공사 | D10: 1131810 | E10: =D10 -> 1131810 | F10: 0 | G10: 0
C11: 공동구공사 | D11: 0 | E11: =D11 -> 0 | F11: 0 | G11: 0
C12: 지하저수조 및 급수공사 | D12: 463857 | E12: =D12 -> 463857 | F12: 0 | G12: 0
C13: 도로포장공사 | D13: 371085 | E13: =D13 -> 371085 | F13: 0 | G13: 0
C14: 교통안전시설물공사 | D14: 92771 | E14: =D14 -> 92771 | F14: 0 | G14: 0
C15: 정화조시설공사 | D15: 0 | E15: =D15 -> 0 | F15: 0 | G15: 0
C16: 조경공사 | D16: 5195194 | E16: =D16 -> 5195194 | F16: 0 | G16: 0
C17: 부대시설공사 | D17: 2040969 | E17: =D17 -> 2040969 | F17: 0 | G17: 0
C18: 소 계 | D18: =SUM(D5:D17) -> 13396178 | E18: =SUM(E5:E17) -> 13396178 | F18: 0 | G18: 0
B19: 건축 (23개공사) | C19: 공통가설공사 | D19: 6159563 | E19: =D19 -> 6159563 | F19: 0 | G19: 0
C20: 가설공사 | D20: 2207795 | E20: =D20 -> 2207795 | F20: 0 | G20: 0
C21: 지정 및 기초공사 | D21: 6493515 | E21: =D21 -> 6493515 | F21: 0 | G21: 0
C22: 철골공사 | D22: 0 | E22: =D22 -> 0 | F22: 0 | G22: 0
C23: 철근콘크리트공사 | D23: 67348026 | E23: =D23 -> 67348026 | F23: 0 | G23: 0
C24: 용접공사 | D24: 0 | E24: =D24 -> 0 | F24: 0 | G24: 0
C25: 조적공사 | D25: 1743973 | E25: =D25 -> 1743973 | F25: 0 | G25: 0
C26: 미장공사 | D26: 5936928 | E26: =D26 -> 5936928 | F26: 0 | G26: 0
C27: 단열공사 | D27: 1576996 | E27: =D27 -> 1576996 | F27: 0 | G27: 0
C28: 방수, 방습공사 | D28: 2690171 | E28: =D28 -> 2690171 | F28: 0 | G28: 0
C29: 목 공 사 | D29: 2319112 | E29: =D29 -> 2319112 | F29: 0 | G29: 0
C30: 가구공사 | D30: 4786648 | E30: =D30 -> 4786648 | F30: 0 | G30: 0
C31: 금속공사 | D31: 1873842 | E31: =D31 -> 1873842 | F31: 0 | G31: 0
... C41: 잡공사 | D41: 1762525 | E41: =D41 -> 1762525 | F41: 0 | G41: 0
C42: 소 계 | D42: =SUM(D19:D41) -> 136661659 | E42: =SUM(E19:E41) -> 136661659 | F42: 0 | G42: 0
B43: 기계설비 (9개공사) | C43: 급수설비공사 | D43: 1946635 | E43: =D43 -> 1946635 | F43: 0 | G43: 0
C44: 급탕설비공사 | D44: 1112363 | E44: =D44 -> 1112363 | F44: 0 | G44: 0
C45: 오배수 및 통기설비공사 | D45: 1019666 | E45: =D45 -> 1019666 | F45: 0 | G45: 0
C46: 위생기구공사 | D46: 4078666 | E46: =D46 -> 4078666 | F46: 0 | G46: 0
C47: 승강기기계공사 | D47: 3196191 | E47: =D47 -> 3196191 | F47: 0 | G47: 0
C48: 난방설비공사 | D48: 3856193 | E48: =D48 -> 3856193 | F48: 0 | G48: 0
C49: 가스설비공사 | D49: 1297757 | E49: =D49 -> 1297757 | F49: 0 | G49: 0
C50: 자동제어설비공사 | D50: 760115 | E50: =D50 -> 760115 | F50: 0 | G50: 0
C51: 특수설비공사 | D51: 495002 | E51: =D51 -> 495002 | F51: 0 | G51: 0
C52: 소 계 | D52: =SUM(D43:D51) -> 17762588 | E52: =SUM(E43:E51) -> 17762588 | F52: 0 | G52: 0
B53: 전기공사 | D53: 6180024 | E53: 0 | F53: 0 | G53: =+D53 -> 6180024
B54: 정보통신공사 | D54: 5462798 | E54: 0 | F54: 0 | G54: =+D54 -> 5462798
B55: 소방설비공사 (2개공사) | C55: 소방기계설비공사 | D55: =F55 -> 4650282 | F55: 4650282
C56: 소방전기설비공사 | D56: =F56 -> 1389045 | F56: 1389045
D57: =SUM(D55:D56) -> 6039327 | E57: 0 | F57: =SUM(F55:F56) -> 6039327
B58: 소 계 | D58: =+SUM(D52,D57,D53,D54,D42,D18) -> 185502574 | E58: =+SUM(E52:E57,E42,E18) -> 167820425 | F58: =+SUM(F57,F42,F18) -> 6039327 | G58: =+SUM(G52:G57,G42,G18) -> 11642822
A59: 일반관리비 | D59: 9979599 | E59: 9035528.9 | F59: =248284+74163 -> 322447 | G59: =329958+291665 -> 621623
A60: 이 윤 | D60: 8186827 | E60: 7412353.2 | F60: =60840+203681 -> 264521 | G60: =270684+239269 -> 509953
A61: 총공사비계 | D61: =+SUM(D58:D60) -> 203669000 | E61: =+SUM(E58:E60) -> 1.8426831e+08 | F61: =+SUM(F58:F60) -> 6626295 | G61: =+SUM(G58:G60) -> 12774398

Sheet 예정공정표(수정)
A2: 아산 리버뷰 지역주택조합 아파트 신축공사 예 정 공 정 표
A4: ■ | B4: 사 업 명 | C4: : 아산 리버뷰 지역주택조합 아파트 신축공사
A5: ■ | B5: 실착공일 | C5: : 2026. 08. 07.
A6: ■ | B6: 공 사 규 모 | C6: : 아파트 10개동, 760세대 ( 지하2층~지상27층 )
A7: ■ | B7: 공 사 기 간 | C7: : 2026. 08. 07. ~ 2029. 10. 07. (38개월)
A8: ■ | B8: 소방공사기간 | C8: : 2027. 01. 01. ~ 2029. 10. 07. (33개월)
A9: ■ | B9: 위치 | C9: : 충청남도 아산시 염치읍 석정리 819-1번지 일원
A12: 구 분 | C12: 2026년 | H12: 2027년 | T12: 2028년 | AF12: 2029년 | AQ12: 비 고
C13: 8 | D13: 9 | E13: 10 | F13: 11 | G13: 12 | H13: 1 | I13: 2 | J13: 3 | K13: 4 | L13: 5 | M13: 6 | N13: 7 | O13: 8 | P13: 9 | Q13: 10 | R13: 11 | S13: 12 | T13: 1 | U13: 2 | V13: 3 | W13: 4 | X13: 5 | Y13: 6 | Z13: 7 | AA13: 8 | AB13: 9 | AC13: 10 | AD13: 11 | AE13: 12 | AF13: 1 | AG13: 2 | AH13: 3 | AI13: 4 | AJ13: 5 | AK13: 6 | AL13: 7 | AM13: 8 | AN13: 9 | AO13: 10 | AP13: 11
A14: 전체공정 | AQ14: 2026.08.07. ~ 2029.10.07. (38개월)
C15: 1 | E15: 1 | F15: 1 | G15: 1 | H15: 1 | I15: 1 | J15: 1 | K15: 1 | L15: 1 | M15: 1 | N15: 1 | O15: 1 | P15: 1 | Q15: 1 | R15: 1 | S15: 1 | T15: 1 | U15: 1 | V15: 1 | W15: 1 | X15: 1 | Y15: 1 | Z15: 1 | AA15: 1 | AB15: 1 | AC15: 1 | AD15: 1 | AE15: 1 | AF15: 1 | AG15: 1 | AH15: 1 | AI15: 1 | AJ15: 1 | AK15: 1 | AL15: 1 | AM15: 1 | AN15: 1
A17: 소방공사 | AQ17: 2027.01.01.~2029.10.07. (33개월)
H18: 1 | I18: 1 | J18: 1 | K18: 1 | L18: 1 | M18: 1 | N18: 1 | O18: 1 | P18: 1 | Q18: 1 | R18: 1 | S18: 1 | T18: 1 | U18: 1 | V18: 1 | W18: 1 | X18: 1 | Y18: 1 | Z18: 1 | AA18: 1 | AB18: 1 | AC18: 1 | AD18: 1 | AE18: 1 | AF18: 1 | AG18: 1 | AH18: 1 | AI18: 1 | AJ18: 1 | AK18: 1 | AL18: 1 | AM18: 1 | AN18: 1
